BEGIN:VCALENDAR
PRODID:NingEventWidget-v1
VERSION:2.0
METHOD:PUBLISH
BEGIN:VTIMEZONE
TZID:America/Anguilla
X-LIC-LOCATION:America/Anguilla
BEGIN:STANDARD
TZOFFSETFROM:-0400
TZOFFSETTO:-0400
TZNAME:AST
DTSTART:19700101T000000
END:STANDARD
END:VTIMEZONE
BEGIN:VEVENT
UID:6381954:Event:5719
DTSTAMP:20260423T044235Z
SUMMARY:Communities for the Arts
DESCRIPTION:A fun show for the whole family. Be prepared to laugh unti
 l your sides hurt!\n\nFor more information visit http://lynnt.com/even
 ts/communities-for-the-arts
DTSTART;TZID=America/Anguilla:20120414T193000
DTEND;TZID=America/Anguilla:20120414T213000
CATEGORIES:comedy, show
LOCATION:Clyde High School Auditorium
WEBSITE:http://www/communitiesfortheartsclyde.org
URL:http://www/communitiesfortheartsclyde.org
CONTACT:
ORGANIZER;CN="Judy Jones":http://lynnt.com/profile/JudyJones
ATTACH;FMTTYPE="image/jpeg":
ATTENDEE;ROLE=REQ-PARTICIPANT;PARTSTAT=ACCEPTED;RSVP=TRUE;CN="Judy Jon
 es":http://lynnt.com/profile/JudyJones
END:VEVENT
END:VCALENDAR
