BEGIN:VCALENDAR
PRODID:NingEventWidget-v1
VERSION:2.0
METHOD:PUBLISH
BEGIN:VTIMEZONE
TZID:America/Anguilla
X-LIC-LOCATION:America/Anguilla
BEGIN:STANDARD
TZOFFSETFROM:-0400
TZOFFSETTO:-0400
TZNAME:AST
DTSTART:19700101T000000
END:STANDARD
END:VTIMEZONE
BEGIN:VEVENT
UID:6381954:Event:9702
DTSTAMP:20260423T102052Z
SUMMARY:Vent Haven conVENTion
DESCRIPTION:    \n\nFor more information visit http://lynnt.com/ev
 ents/vent-haven-convention
DTSTART;TZID=America/Anguilla:20140716T000000
DTEND;TZID=America/Anguilla:20140720T235900
CATEGORIES:convention
LOCATION:Airport Marroit, Hebron KY
WEBSITE:
URL:
CONTACT:
ORGANIZER;CN="Dave Trefzger":http://lynnt.com/profile/DaveTrefzger
ATTACH;FMTTYPE="image/jpeg":
ATTENDEE;ROLE=REQ-PARTICIPANT;PARTSTAT=ACCEPTED;RSVP=TRUE;CN="Dave Tre
 fzger":http://lynnt.com/profile/DaveTrefzger
END:VEVENT
END:VCALENDAR
